<?xml version="1.0" encoding="UTF-8" standalone="no"?>
<metadata xml:lang="sv">
<Esri>
<CreaDate>20260202</CreaDate>
<CreaTime>10440800</CreaTime>
<ArcGISFormat>1.0</ArcGISFormat>
<SyncOnce>FALSE</SyncOnce>
<DataProperties>
<itemProps>
<itemName Sync="TRUE">clipraster.tif</itemName>
<itemLocation>
<linkage Sync="TRUE">file://G:\sbf\Plan och GI\Geografisk information\GIS\GIS_JOBB\Viktor\övrigt\SKSSLUMarkfuktighet09\clipraster.tif</linkage>
<protocol Sync="TRUE">Local Area Network</protocol>
</itemLocation>
<imsContentType Sync="TRUE">002</imsContentType>
<nativeExtBox>
<westBL Sync="TRUE">102123.494600</westBL>
<eastBL Sync="TRUE">185555.245800</eastBL>
<southBL Sync="TRUE">6309463.996100</southBL>
<northBL Sync="TRUE">6475773.431600</northBL>
<exTypeCode Sync="TRUE">1</exTypeCode>
</nativeExtBox>
</itemProps>
<coordRef>
<type Sync="TRUE">Projected</type>
<geogcsn Sync="TRUE">GCS_SWEREF99</geogcsn>
<csUnits Sync="TRUE">Linear Unit: Meter (1.000000)</csUnits>
<projcsn Sync="TRUE">SWEREF99_18_45</projcsn>
<peXml Sync="TRUE">&lt;ProjectedCoordinateSystem xsi:type='typens:ProjectedCoordinateSystem' xmlns:xsi='http://www.w3.org/2001/XMLSchema-instance' xmlns:xs='http://www.w3.org/2001/XMLSchema' xmlns:typens='http://www.esri.com/schemas/ArcGIS/3.3.0'&gt;&lt;WKT&gt;PROJCS[&amp;quot;SWEREF99_18_45&amp;quot;,GEOGCS[&amp;quot;GCS_SWEREF99&amp;quot;,DATUM[&amp;quot;D_SWEREF99&amp;quot;,SPHEROID[&amp;quot;GRS_1980&amp;quot;,6378137.0,298.257222101]],PRIMEM[&amp;quot;Greenwich&amp;quot;,0.0],UNIT[&amp;quot;Degree&amp;quot;,0.0174532925199433]],PROJECTION[&amp;quot;Transverse_Mercator&amp;quot;],PARAMETER[&amp;quot;False_Easting&amp;quot;,150000.0],PARAMETER[&amp;quot;False_Northing&amp;quot;,0.0],PARAMETER[&amp;quot;Central_Meridian&amp;quot;,18.75],PARAMETER[&amp;quot;Scale_Factor&amp;quot;,1.0],PARAMETER[&amp;quot;Latitude_Of_Origin&amp;quot;,0.0],UNIT[&amp;quot;Meter&amp;quot;,1.0],AUTHORITY[&amp;quot;EPSG&amp;quot;,3015]]&lt;/WKT&gt;&lt;XOrigin&gt;-5473200&lt;/XOrigin&gt;&lt;YOrigin&gt;-10002100&lt;/YOrigin&gt;&lt;XYScale&gt;450265407.00157917&lt;/XYScale&gt;&lt;ZOrigin&gt;-100000&lt;/ZOrigin&gt;&lt;ZScale&gt;10000&lt;/ZScale&gt;&lt;MOrigin&gt;-100000&lt;/MOrigin&gt;&lt;MScale&gt;10000&lt;/MScale&gt;&lt;XYTolerance&gt;0.001&lt;/XYTolerance&gt;&lt;ZTolerance&gt;0.001&lt;/ZTolerance&gt;&lt;MTolerance&gt;0.001&lt;/MTolerance&gt;&lt;HighPrecision&gt;true&lt;/HighPrecision&gt;&lt;WKID&gt;3015&lt;/WKID&gt;&lt;LatestWKID&gt;3015&lt;/LatestWKID&gt;&lt;/ProjectedCoordinateSystem&gt;</peXml>
</coordRef>
<RasterProperties>
<General>
<PixelDepth Sync="TRUE">32</PixelDepth>
<HasColormap Sync="TRUE">FALSE</HasColormap>
<CompressionType Sync="TRUE">LZW</CompressionType>
<NumBands Sync="TRUE">1</NumBands>
<Format Sync="TRUE">TIFF</Format>
<HasPyramids Sync="TRUE">TRUE</HasPyramids>
<SourceType Sync="TRUE">continuous</SourceType>
<PixelType Sync="TRUE">floating point</PixelType>
<NoDataValue Sync="TRUE">-1</NoDataValue>
</General>
</RasterProperties>
<lineage>
<Process Date="20260202" Name="" Time="104409" ToolSource="c:\program files\arcgis\pro\Resources\ArcToolbox\toolboxes\Data Management Tools.tbx\Clip" export="">Clip markfuktighet1845.tif "102123,4946 6309463,9961 185555,2458 6475773,4316" "G:\sbf\Plan och GI\Geografisk information\GIS\GIS_JOBB\Viktor\övrigt\SKSSLUMarkfuktighet09\clipraster.tif" GNG.gotland_y -1 ClippingGeometry MAINTAIN_EXTENT</Process>
<Process Date="20260202" Name="" Time="155812" ToolSource="c:\program files\arcgis\pro\Resources\ArcToolbox\Toolboxes\Data Management Tools.tbx\Rename" export="">Rename Y:\Miljo\clipraster.tif Y:\Miljo\SLUmarkfuktighet.tif RasterDataset</Process>
</lineage>
</DataProperties>
<SyncDate>20260202</SyncDate>
<SyncTime>10440800</SyncTime>
<ModDate>20260202</ModDate>
<ModTime>16012200</ModTime>
<scaleRange>
<minScale>150000000</minScale>
<maxScale>5000</maxScale>
</scaleRange>
<ArcGISProfile>ItemDescription</ArcGISProfile>
</Esri>
<dataIdInfo>
<envirDesc Sync="TRUE">Microsoft Windows 10 Version 10.0 (Build 26100) ; Esri ArcGIS 13.3.7.52636</envirDesc>
<dataLang>
<languageCode Sync="TRUE" value="swe"/>
<countryCode Sync="TRUE" value="SWE"/>
</dataLang>
<idCitation>
<resTitle Sync="TRUE">SLUmarkfuktighet_tif</resTitle>
<presForm>
<PresFormCd Sync="TRUE" value="005"/>
</presForm>
</idCitation>
<spatRpType>
<SpatRepTypCd Sync="TRUE" value="002"/>
</spatRpType>
<dataExt>
<geoEle>
<GeoBndBox esriExtentType="search">
<exTypeCode Sync="TRUE">1</exTypeCode>
<westBL Sync="TRUE">17.931267</westBL>
<eastBL Sync="TRUE">19.358044</eastBL>
<northBL Sync="TRUE">58.399446</northBL>
<southBL Sync="TRUE">56.903690</southBL>
</GeoBndBox>
</geoEle>
</dataExt>
<idPurp>Markfuktighet från SLU på imageserver</idPurp>
<searchKeys>
<keyword>SLU</keyword>
</searchKeys>
<idAbs/>
<idCredit/>
<resConst>
<Consts>
<useLimit/>
</Consts>
</resConst>
</dataIdInfo>
<mdLang>
<languageCode Sync="TRUE" value="swe"/>
<countryCode Sync="TRUE" value="SWE"/>
</mdLang>
<mdChar>
<CharSetCd Sync="TRUE" value="004"/>
</mdChar>
<distInfo>
<distFormat>
<formatName Sync="TRUE">Raster Dataset</formatName>
</distFormat>
</distInfo>
<mdHrLv>
<ScopeCd Sync="TRUE" value="005"/>
</mdHrLv>
<mdHrLvName Sync="TRUE">dataset</mdHrLvName>
<refSysInfo>
<RefSystem>
<refSysID>
<identCode Sync="TRUE" code="3015"/>
<idCodeSpace Sync="TRUE">EPSG</idCodeSpace>
<idVersion Sync="TRUE">6.7(9.0.0)</idVersion>
</refSysID>
</RefSystem>
</refSysInfo>
<spatRepInfo>
<Georect>
<cellGeo>
<CellGeoCd Sync="TRUE" value="002"/>
</cellGeo>
<numDims Sync="TRUE">2</numDims>
<tranParaAv Sync="TRUE">1</tranParaAv>
<chkPtAv Sync="TRUE">0</chkPtAv>
<cornerPts>
<pos Sync="TRUE">102123.494600 6309463.996100</pos>
</cornerPts>
<cornerPts>
<pos Sync="TRUE">102123.494600 6475773.431600</pos>
</cornerPts>
<cornerPts>
<pos Sync="TRUE">185555.245800 6475773.431600</pos>
</cornerPts>
<cornerPts>
<pos Sync="TRUE">185555.245800 6309463.996100</pos>
</cornerPts>
<centerPt>
<pos Sync="TRUE">143839.370200 6392618.713850</pos>
</centerPt>
<axisDimension type="002">
<dimSize Sync="TRUE">41716</dimSize>
<dimResol>
<value Sync="TRUE" uom="m">1.999994</value>
</dimResol>
</axisDimension>
<axisDimension type="001">
<dimSize Sync="TRUE">83155</dimSize>
<dimResol>
<value Sync="TRUE" uom="m">1.999993</value>
</dimResol>
</axisDimension>
<ptInPixel>
<PixOrientCd Sync="TRUE" value="001"/>
</ptInPixel>
</Georect>
</spatRepInfo>
<contInfo>
<ImgDesc>
<contentTyp>
<ContentTypCd Sync="TRUE" value="001"/>
</contentTyp>
<covDim>
<Band>
<dimDescrp Sync="TRUE">Band_1</dimDescrp>
<maxVal Sync="TRUE">255.000000</maxVal>
<minVal Sync="TRUE">0.000000</minVal>
<bitsPerVal Sync="TRUE">32</bitsPerVal>
<valUnit>
<UOM type="length"/>
</valUnit>
</Band>
</covDim>
</ImgDesc>
</contInfo>
<mdDateSt Sync="TRUE">20260202</mdDateSt>
</metadata>
