{
 "currentVersion": 11.3,
 "serviceDescription": "Miljo/SLUmarkfuktighet_tif",
 "name": "Miljo/SLUmarkfuktighet_tif",
 "description": "",
 "extent": {
  "xmin": 102123.49459999986,
  "ymin": 6309463.996099999,
  "xmax": 185555.24579999968,
  "ymax": 6475773.431600001,
  "spatialReference": {
   "wkid": 3015,
   "latestWkid": 3015
  }
 },
 "initialExtent": {
  "xmin": 102123.49459999986,
  "ymin": 6309463.996099999,
  "xmax": 185555.24579999968,
  "ymax": 6475773.431600001,
  "spatialReference": {
   "wkid": 3015,
   "latestWkid": 3015
  }
 },
 "fullExtent": {
  "xmin": 102123.49459999986,
  "ymin": 6309463.996099999,
  "xmax": 185555.24579999968,
  "ymax": 6475773.431600001,
  "spatialReference": {
   "wkid": 3015,
   "latestWkid": 3015
  }
 },
 "sortableFields": "",
 "bandCount": 1,
 "pixelType": "F32",
 "minValues": [
  0
 ],
 "maxValues": [
  255
 ],
 "meanValues": [
  35.412757951962
 ],
 "stdvValues": [
  61.760510396831
 ],
 "hasMultidimensions": false,
 "pixelSizeX": 1.9999940358615358,
 "pixelSizeY": 1.9999932114725698,
 "meanPixelSize": 1.9999936236670528,
 "datasetFormat": "TIFF",
 "uncompressedSize": 13875575920,
 "blockWidth": 128,
 "blockHeight": 128,
 "compressionType": "LZW",
 "bandNames": [
  "Band_1"
 ],
 "allowCopy": true,
 "allowAnalysis": true,
 "itemAccess": false,
 "inspectionCapabilities": "",
 "noDataValue": -1,
 "noDataValues": [
  -1
 ],
 "minPixelSize": 0,
 "maxPixelSize": 0,
 "copyrightText": "",
 "serviceDataType": "esriImageServiceDataTypeGeneric",
 "serviceSourceType": "esriImageServiceSourceTypeDataset",
 "objectIdField": "",
 "fields": [],
 "capabilities": "Image,Metadata,Mensuration",
 "defaultMosaicMethod": "Center",
 "allowedMosaicMethods": "",
 "sortField": "",
 "sortValue": null,
 "sortAscending": true,
 "mosaicOperator": "First",
 "defaultCompressionQuality": 75,
 "defaultResamplingMethod": "Bilinear",
 "maxImageHeight": 4100,
 "maxImageWidth": 15000,
 "allowRasterFunction": true,
 "rasterFunctionInfos": [
  {
   "name": "None",
   "description": "",
   "help": ""
  }
 ],
 "rasterTypeInfos": [
  {
   "name": "Raster Dataset",
   "description": "Supports all ArcGIS Raster Datasets",
   "help": ""
  }
 ],
 "mensurationCapabilities": "Basic",
 "hasHistograms": true,
 "hasColormap": false,
 "hasRasterAttributeTable": false,
 "minScale": 0,
 "maxScale": 0,
 "exportTilesAllowed": false,
 "supportsStatistics": false,
 "supportsAdvancedQueries": false,
 "editFieldsInfo": null,
 "ownershipBasedAccessControlForRasters": null,
 "allowComputeTiePoints": false,
 "useStandardizedQueries": true,
 "advancedQueryCapabilities": {
  "useStandardizedQueries": true,
  "supportsStatistics": false,
  "supportsOrderBy": false,
  "supportsDistinct": false,
  "supportsPagination": false
 },
 "spatialReference": {
  "wkid": 3015,
  "latestWkid": 3015
 }
}
