{
 "currentVersion": 11.3,
 "serviceDescription": "Hillshade raster genererad från höjdata(RH2000)",
 "name": "Ortofoto/HILLSHADE",
 "description": "Hillshade raster genererad från höjdata(RH2000)",
 "extent": {
  "xmin": 101291.01030159026,
  "ymin": 6309349.9037442515,
  "xmax": 185771.01030159026,
  "ymax": 6475749.9037442515,
  "spatialReference": {
   "wkid": 3015,
   "latestWkid": 3015,
   "vcsWkid": 105702,
   "latestVcsWkid": 5613
  }
 },
 "initialExtent": {
  "xmin": 101291.01030159026,
  "ymin": 6309349.9037442515,
  "xmax": 185771.01030159026,
  "ymax": 6475749.9037442515,
  "spatialReference": {
   "wkid": 3015,
   "latestWkid": 3015,
   "vcsWkid": 105702,
   "latestVcsWkid": 5613
  }
 },
 "fullExtent": {
  "xmin": 101291.01030159026,
  "ymin": 6309349.9037442515,
  "xmax": 185771.01030159026,
  "ymax": 6475749.9037442515,
  "spatialReference": {
   "wkid": 3015,
   "latestWkid": 3015,
   "vcsWkid": 105702,
   "latestVcsWkid": 5613
  }
 },
 "sortableFields": "",
 "heightModelInfo": {
  "heightModel": "gravity_related_height",
  "vertCRS": "RH2000",
  "heightUnit": "meter"
 },
 "bandCount": 1,
 "pixelType": "U8",
 "minValues": [
  0
 ],
 "maxValues": [
  254
 ],
 "meanValues": [
  179.46229367832
 ],
 "stdvValues": [
  7.937120504892759
 ],
 "hasMultidimensions": false,
 "pixelSizeX": 1.25,
 "pixelSizeY": 1.25,
 "meanPixelSize": 1.25,
 "datasetFormat": "FGDBR",
 "uncompressedSize": 8996782080,
 "blockWidth": 128,
 "blockHeight": 128,
 "compressionType": "LZ77",
 "bandNames": [
  "Band_1"
 ],
 "allowCopy": true,
 "allowAnalysis": true,
 "itemAccess": false,
 "inspectionCapabilities": "",
 "minPixelSize": 0,
 "maxPixelSize": 0,
 "copyrightText": "",
 "serviceDataType": "esriImageServiceDataTypeGeneric",
 "serviceSourceType": "esriImageServiceSourceTypeDataset",
 "objectIdField": "",
 "fields": [],
 "capabilities": "Image,Metadata,Mensuration",
 "defaultMosaicMethod": "Center",
 "allowedMosaicMethods": "",
 "sortField": "",
 "sortValue": null,
 "sortAscending": true,
 "mosaicOperator": "First",
 "defaultCompressionQuality": 75,
 "defaultResamplingMethod": "Bilinear",
 "maxImageHeight": 4100,
 "maxImageWidth": 15000,
 "allowRasterFunction": true,
 "rasterFunctionInfos": [
  {
   "name": "None",
   "description": "",
   "help": ""
  }
 ],
 "rasterTypeInfos": [
  {
   "name": "Raster Dataset",
   "description": "Supports all ArcGIS Raster Datasets",
   "help": ""
  }
 ],
 "mensurationCapabilities": "Basic",
 "hasHistograms": true,
 "hasColormap": false,
 "hasRasterAttributeTable": true,
 "minScale": 0,
 "maxScale": 0,
 "exportTilesAllowed": false,
 "supportsStatistics": false,
 "supportsAdvancedQueries": false,
 "editFieldsInfo": null,
 "ownershipBasedAccessControlForRasters": null,
 "allowComputeTiePoints": false,
 "useStandardizedQueries": true,
 "advancedQueryCapabilities": {
  "useStandardizedQueries": true,
  "supportsStatistics": false,
  "supportsOrderBy": false,
  "supportsDistinct": false,
  "supportsPagination": false
 },
 "spatialReference": {
  "wkid": 3015,
  "latestWkid": 3015,
  "vcsWkid": 105702,
  "latestVcsWkid": 5613
 }
}
