{ "currentVersion": 11.3, "serviceDescription": "
Rastret är framtaget från las-data från Lantmäteriet. Den har cellstorlek 1,25m och Triangulering Linjär med ingen förtunning.<\/SPAN><\/P><\/DIV><\/DIV>",
"name": "Ortofoto/HOJDRASTER",
"description": " Rastret är framtaget från las-data från Lantmäteriet. Den har cellstorlek 1,25m och Triangulering Linjär med ingen förtunning.<\/SPAN><\/P><\/DIV><\/DIV>",
"extent": {
"xmin": 101291.01030159026,
"ymin": 6309349.9037442515,
"xmax": 185771.01030159026,
"ymax": 6475749.9037442515,
"spatialReference": {
"wkid": 3015,
"latestWkid": 3015,
"vcsWkid": 105702,
"latestVcsWkid": 5613
}
},
"initialExtent": {
"xmin": 101291.01030159026,
"ymin": 6309349.9037442515,
"xmax": 185771.01030159026,
"ymax": 6475749.9037442515,
"spatialReference": {
"wkid": 3015,
"latestWkid": 3015,
"vcsWkid": 105702,
"latestVcsWkid": 5613
}
},
"fullExtent": {
"xmin": 101291.01030159026,
"ymin": 6309349.9037442515,
"xmax": 185771.01030159026,
"ymax": 6475749.9037442515,
"spatialReference": {
"wkid": 3015,
"latestWkid": 3015,
"vcsWkid": 105702,
"latestVcsWkid": 5613
}
},
"sortableFields": "",
"heightModelInfo": {
"heightModel": "gravity_related_height",
"vertCRS": "RH2000",
"heightUnit": "meter"
},
"bandCount": 1,
"pixelType": "F32",
"minValues": [
-48.70973205566406
],
"maxValues": [
84.08650207519531
],
"meanValues": [
23.75969332740431
],
"stdvValues": [
17.94645379608534
],
"hasMultidimensions": false,
"pixelSizeX": 1.25,
"pixelSizeY": 1.25,
"meanPixelSize": 1.25,
"datasetFormat": "FGDBR",
"uncompressedSize": 35987128320,
"blockWidth": 128,
"blockHeight": 128,
"compressionType": "LZ77",
"bandNames": [
"Band_1"
],
"allowCopy": true,
"allowAnalysis": true,
"itemAccess": false,
"inspectionCapabilities": "",
"minPixelSize": 0,
"maxPixelSize": 0,
"copyrightText": "Tomas Looström",
"serviceDataType": "esriImageServiceDataTypeGeneric",
"serviceSourceType": "esriImageServiceSourceTypeDataset",
"objectIdField": "",
"fields": [],
"capabilities": "Image,Metadata,Mensuration",
"defaultMosaicMethod": "Center",
"allowedMosaicMethods": "",
"sortField": "",
"sortValue": null,
"sortAscending": true,
"mosaicOperator": "First",
"defaultCompressionQuality": 75,
"defaultResamplingMethod": "Bilinear",
"maxImageHeight": 4100,
"maxImageWidth": 15000,
"allowRasterFunction": true,
"rasterFunctionInfos": [
{
"name": "None",
"description": "",
"help": ""
}
],
"rasterTypeInfos": [
{
"name": "Raster Dataset",
"description": "Supports all ArcGIS Raster Datasets",
"help": ""
}
],
"mensurationCapabilities": "Basic",
"hasHistograms": true,
"hasColormap": false,
"hasRasterAttributeTable": false,
"minScale": 0,
"maxScale": 0,
"exportTilesAllowed": false,
"supportsStatistics": false,
"supportsAdvancedQueries": false,
"editFieldsInfo": null,
"ownershipBasedAccessControlForRasters": null,
"allowComputeTiePoints": false,
"useStandardizedQueries": true,
"advancedQueryCapabilities": {
"useStandardizedQueries": true,
"supportsStatistics": false,
"supportsOrderBy": false,
"supportsDistinct": false,
"supportsPagination": false
},
"spatialReference": {
"wkid": 3015,
"latestWkid": 3015,
"vcsWkid": 105702,
"latestVcsWkid": 5613
}
}