{
 "currentVersion": 11.3,
 "serviceDescription": "Ortofoto 2020, Klippt för Almedalsveckans karta.",
 "name": "Ortofoto/ORTOFOTO_2020_Almedalen",
 "description": "Ortofoto 2020, Klippt för Almedalsveckans karta.",
 "extent": {
  "xmin": 121317.76000000001,
  "ymin": 6389544.8,
  "xmax": 124119.84000000001,
  "ymax": 6393140.64,
  "spatialReference": {
   "wkid": 3015,
   "latestWkid": 3015
  }
 },
 "initialExtent": {
  "xmin": 121317.76000000001,
  "ymin": 6389544.8,
  "xmax": 124119.84000000001,
  "ymax": 6393140.64,
  "spatialReference": {
   "wkid": 3015,
   "latestWkid": 3015
  }
 },
 "fullExtent": {
  "xmin": 121317.76000000001,
  "ymin": 6389544.8,
  "xmax": 124119.84000000001,
  "ymax": 6393140.64,
  "spatialReference": {
   "wkid": 3015,
   "latestWkid": 3015
  }
 },
 "sortableFields": "",
 "bandCount": 3,
 "pixelType": "U8",
 "minValues": [
  9,
  18,
  12
 ],
 "maxValues": [
  255,
  255,
  255
 ],
 "meanValues": [
  116.0082293541413,
  123.48692367174114,
  118.37100270625301
 ],
 "stdvValues": [
  57.1199063763794,
  48.585515586190766,
  42.75688987596643
 ],
 "hasMultidimensions": false,
 "pixelSizeX": 0.1600000000000001,
 "pixelSizeY": 0.15999999999999337,
 "meanPixelSize": 0.15999999999999673,
 "datasetFormat": "FGDBR",
 "uncompressedSize": 1180761486,
 "blockWidth": 128,
 "blockHeight": 128,
 "compressionType": "LZ77",
 "bandNames": [
  "Band_1",
  "Band_2",
  "Band_3"
 ],
 "allowCopy": true,
 "allowAnalysis": true,
 "itemAccess": false,
 "inspectionCapabilities": "",
 "minPixelSize": 0,
 "maxPixelSize": 0,
 "copyrightText": "",
 "serviceDataType": "esriImageServiceDataTypeRGB",
 "serviceSourceType": "esriImageServiceSourceTypeDataset",
 "objectIdField": "",
 "fields": [],
 "capabilities": "Image,Metadata,Mensuration",
 "defaultMosaicMethod": "Center",
 "allowedMosaicMethods": "",
 "sortField": "",
 "sortValue": null,
 "sortAscending": true,
 "mosaicOperator": "First",
 "defaultCompressionQuality": 75,
 "defaultResamplingMethod": "Bilinear",
 "maxImageHeight": 4100,
 "maxImageWidth": 15000,
 "allowRasterFunction": true,
 "rasterFunctionInfos": [
  {
   "name": "None",
   "description": "",
   "help": ""
  }
 ],
 "rasterTypeInfos": [
  {
   "name": "Raster Dataset",
   "description": "Supports all ArcGIS Raster Datasets",
   "help": ""
  }
 ],
 "mensurationCapabilities": "Basic",
 "hasHistograms": true,
 "hasColormap": false,
 "hasRasterAttributeTable": false,
 "minScale": 0,
 "maxScale": 0,
 "exportTilesAllowed": false,
 "supportsStatistics": false,
 "supportsAdvancedQueries": false,
 "editFieldsInfo": null,
 "ownershipBasedAccessControlForRasters": null,
 "allowComputeTiePoints": false,
 "useStandardizedQueries": true,
 "advancedQueryCapabilities": {
  "useStandardizedQueries": true,
  "supportsStatistics": false,
  "supportsOrderBy": false,
  "supportsDistinct": false,
  "supportsPagination": false
 },
 "spatialReference": {
  "wkid": 3015,
  "latestWkid": 3015
 }
}
