{
 "currentVersion": 11.3,
 "serviceDescription": "Orotofoto år 2010",
 "name": "Ortofoto/Ortofoto2010",
 "description": "Orotofoto år 2010",
 "extent": {
  "xmin": 99900.02708702162,
  "ymin": 6306700.022123301,
  "xmax": 189900.02708702162,
  "ymax": 6476700.022123301,
  "spatialReference": {
   "wkid": 3015,
   "latestWkid": 3015
  }
 },
 "initialExtent": {
  "xmin": 99900.02708702162,
  "ymin": 6306700.022123301,
  "xmax": 189900.02708702162,
  "ymax": 6476700.022123301,
  "spatialReference": {
   "wkid": 3015,
   "latestWkid": 3015
  }
 },
 "fullExtent": {
  "xmin": 99900.02708702162,
  "ymin": 6306700.022123301,
  "xmax": 189900.02708702162,
  "ymax": 6476700.022123301,
  "spatialReference": {
   "wkid": 3015,
   "latestWkid": 3015
  }
 },
 "sortableFields": "",
 "bandCount": 3,
 "pixelType": "U8",
 "minValues": [
  0,
  0,
  0
 ],
 "maxValues": [
  255,
  255,
  255
 ],
 "meanValues": [
  76.78294147960976,
  85.20593690780488,
  83.84678796356097
 ],
 "stdvValues": [
  47.6498153953276,
  47.74390091288258,
  44.6415349516479
 ],
 "hasMultidimensions": false,
 "pixelSizeX": 0.5,
 "pixelSizeY": 0.5,
 "meanPixelSize": 0.5,
 "datasetFormat": "FGDBR",
 "uncompressedSize": 183600000000,
 "blockWidth": 128,
 "blockHeight": 128,
 "compressionType": "LZ77",
 "bandNames": [
  "Band_1",
  "Band_2",
  "Band_3"
 ],
 "allowCopy": true,
 "allowAnalysis": true,
 "itemAccess": false,
 "inspectionCapabilities": "",
 "minPixelSize": 0,
 "maxPixelSize": 0,
 "copyrightText": "",
 "serviceDataType": "esriImageServiceDataTypeRGB",
 "serviceSourceType": "esriImageServiceSourceTypeDataset",
 "objectIdField": "",
 "fields": [],
 "capabilities": "Image,Metadata,Mensuration",
 "defaultMosaicMethod": "Center",
 "allowedMosaicMethods": "",
 "sortField": "",
 "sortValue": null,
 "sortAscending": true,
 "mosaicOperator": "First",
 "defaultCompressionQuality": 75,
 "defaultResamplingMethod": "Bilinear",
 "maxImageHeight": 4100,
 "maxImageWidth": 15000,
 "allowRasterFunction": true,
 "rasterFunctionInfos": [
  {
   "name": "None",
   "description": "",
   "help": ""
  }
 ],
 "rasterTypeInfos": [
  {
   "name": "Raster Dataset",
   "description": "Supports all ArcGIS Raster Datasets",
   "help": ""
  }
 ],
 "mensurationCapabilities": "Basic",
 "hasHistograms": true,
 "hasColormap": false,
 "hasRasterAttributeTable": false,
 "minScale": 0,
 "maxScale": 0,
 "exportTilesAllowed": false,
 "supportsStatistics": false,
 "supportsAdvancedQueries": false,
 "editFieldsInfo": null,
 "ownershipBasedAccessControlForRasters": null,
 "allowComputeTiePoints": false,
 "useStandardizedQueries": true,
 "advancedQueryCapabilities": {
  "useStandardizedQueries": true,
  "supportsStatistics": false,
  "supportsOrderBy": false,
  "supportsDistinct": false,
  "supportsPagination": false
 },
 "spatialReference": {
  "wkid": 3015,
  "latestWkid": 3015
 }
}
