{ "currentVersion": 11.3, "serviceDescription": "
Inscannad och rektifierad akvarell över Gotland.<\/SPAN><\/P><\/DIV><\/DIV>",
"name": "Skannade_bilder/GOTLAND_AKVARELL",
"description": " Inscannad och rektifierad akvarell över Gotland.<\/SPAN><\/P><\/DIV><\/DIV>",
"extent": {
"xmin": 60950.55995877707,
"ymin": 6286365.9994898625,
"xmax": 228711.1918420532,
"ymax": 6499128.608458155,
"spatialReference": {
"wkid": 3015,
"latestWkid": 3015
}
},
"initialExtent": {
"xmin": 60950.55995877707,
"ymin": 6286365.9994898625,
"xmax": 228711.1918420532,
"ymax": 6499128.608458155,
"spatialReference": {
"wkid": 3015,
"latestWkid": 3015
}
},
"fullExtent": {
"xmin": 60950.55995877707,
"ymin": 6286365.9994898625,
"xmax": 228711.1918420532,
"ymax": 6499128.608458155,
"spatialReference": {
"wkid": 3015,
"latestWkid": 3015
}
},
"sortableFields": "",
"bandCount": 3,
"pixelType": "U8",
"minValues": [
71,
80,
48
],
"maxValues": [
255,
255,
255
],
"meanValues": [
244.78518393140854,
243.96827590463772,
230.82061643938698
],
"stdvValues": [
11.713016847018032,
10.080913448950948,
29.126290764068504
],
"hasMultidimensions": false,
"pixelSizeX": 41.50436216805446,
"pixelSizeY": 40.68896710045752,
"meanPixelSize": 41.09666463425599,
"datasetFormat": "FGDBR",
"uncompressedSize": 63406854,
"blockWidth": 128,
"blockHeight": 128,
"compressionType": "LZ77",
"bandNames": [
"Band_1",
"Band_2",
"Band_3"
],
"allowCopy": true,
"allowAnalysis": true,
"itemAccess": false,
"inspectionCapabilities": "",
"minPixelSize": 0,
"maxPixelSize": 0,
"copyrightText": "Lena Nilsson, GIS-teamet.",
"serviceDataType": "esriImageServiceDataTypeRGB",
"serviceSourceType": "esriImageServiceSourceTypeDataset",
"objectIdField": "",
"fields": [],
"capabilities": "Image,Metadata,Mensuration",
"defaultMosaicMethod": "Center",
"allowedMosaicMethods": "",
"sortField": "",
"sortValue": null,
"sortAscending": true,
"mosaicOperator": "First",
"defaultCompressionQuality": 75,
"defaultResamplingMethod": "Bilinear",
"maxImageHeight": 4100,
"maxImageWidth": 15000,
"allowRasterFunction": true,
"rasterFunctionInfos": [
{
"name": "None",
"description": "",
"help": ""
}
],
"rasterTypeInfos": [
{
"name": "Raster Dataset",
"description": "Supports all ArcGIS Raster Datasets",
"help": ""
}
],
"mensurationCapabilities": "Basic",
"hasHistograms": true,
"hasColormap": false,
"hasRasterAttributeTable": false,
"minScale": 0,
"maxScale": 0,
"exportTilesAllowed": false,
"supportsStatistics": false,
"supportsAdvancedQueries": false,
"editFieldsInfo": null,
"ownershipBasedAccessControlForRasters": null,
"allowComputeTiePoints": false,
"useStandardizedQueries": true,
"advancedQueryCapabilities": {
"useStandardizedQueries": true,
"supportsStatistics": false,
"supportsOrderBy": false,
"supportsDistinct": false,
"supportsPagination": false
},
"spatialReference": {
"wkid": 3015,
"latestWkid": 3015
}
}