{
 "currentVersion": 11.3,
 "serviceDescription": "Inscannad och rektifierad över Visby( Schilder 1697).",
 "name": "Skannade_bilder/VISBY_1697_SCHILDER",
 "description": "Inscannad och rektifierad över Visby( Schilder 1697).",
 "extent": {
  "xmin": 121975.21983388069,
  "ymin": 6390418.766922327,
  "xmax": 123507.96207588069,
  "ymax": 6392253.032228326,
  "spatialReference": {
   "wkid": 3015,
   "latestWkid": 3015
  }
 },
 "initialExtent": {
  "xmin": 121975.21983388069,
  "ymin": 6390418.766922327,
  "xmax": 123507.96207588069,
  "ymax": 6392253.032228326,
  "spatialReference": {
   "wkid": 3015,
   "latestWkid": 3015
  }
 },
 "fullExtent": {
  "xmin": 121975.21983388069,
  "ymin": 6390418.766922327,
  "xmax": 123507.96207588069,
  "ymax": 6392253.032228326,
  "spatialReference": {
   "wkid": 3015,
   "latestWkid": 3015
  }
 },
 "sortableFields": "",
 "bandCount": 3,
 "pixelType": "U8",
 "minValues": [
  0,
  0,
  0
 ],
 "maxValues": [
  255,
  255,
  243
 ],
 "meanValues": [
  98.8713092734141,
  92.89102810447415,
  77.58481688245844
 ],
 "stdvValues": [
  107.10347089029077,
  101.09917234780116,
  85.42209639762656
 ],
 "hasMultidimensions": false,
 "pixelSizeX": 0.3027339999999986,
 "pixelSizeY": 0.30273399999994494,
 "meanPixelSize": 0.30273399999997175,
 "datasetFormat": "FGDBR",
 "uncompressedSize": 92030151,
 "blockWidth": 128,
 "blockHeight": 128,
 "compressionType": "LZ77",
 "bandNames": [
  "Band_1",
  "Band_2",
  "Band_3"
 ],
 "allowCopy": true,
 "allowAnalysis": true,
 "itemAccess": false,
 "inspectionCapabilities": "",
 "minPixelSize": 0,
 "maxPixelSize": 0,
 "copyrightText": "",
 "serviceDataType": "esriImageServiceDataTypeRGB",
 "serviceSourceType": "esriImageServiceSourceTypeDataset",
 "objectIdField": "",
 "fields": [],
 "capabilities": "Image,Metadata,Mensuration",
 "defaultMosaicMethod": "Center",
 "allowedMosaicMethods": "",
 "sortField": "",
 "sortValue": null,
 "sortAscending": true,
 "mosaicOperator": "First",
 "defaultCompressionQuality": 75,
 "defaultResamplingMethod": "Bilinear",
 "maxImageHeight": 4100,
 "maxImageWidth": 15000,
 "allowRasterFunction": true,
 "rasterFunctionInfos": [
  {
   "name": "None",
   "description": "",
   "help": ""
  }
 ],
 "rasterTypeInfos": [
  {
   "name": "Raster Dataset",
   "description": "Supports all ArcGIS Raster Datasets",
   "help": ""
  }
 ],
 "mensurationCapabilities": "Basic",
 "hasHistograms": true,
 "hasColormap": false,
 "hasRasterAttributeTable": false,
 "minScale": 0,
 "maxScale": 0,
 "exportTilesAllowed": false,
 "supportsStatistics": false,
 "supportsAdvancedQueries": false,
 "editFieldsInfo": null,
 "ownershipBasedAccessControlForRasters": null,
 "allowComputeTiePoints": false,
 "useStandardizedQueries": true,
 "advancedQueryCapabilities": {
  "useStandardizedQueries": true,
  "supportsStatistics": false,
  "supportsOrderBy": false,
  "supportsDistinct": false,
  "supportsPagination": false
 },
 "spatialReference": {
  "wkid": 3015,
  "latestWkid": 3015
 }
}