{
 "currentVersion": 11.3,
 "serviceDescription": "Inscannad och rektifierad bild över Visby(Böring 1906).",
 "name": "Skannade_bilder/VISBY_1906_BÖRRING",
 "description": "Inscannad och rektifierad bild över Visby(Böring 1906).",
 "extent": {
  "xmin": 121852.65721753477,
  "ymin": 6390375.581205063,
  "xmax": 123541.78551553476,
  "ymax": 6392166.778041063,
  "spatialReference": {
   "wkid": 3015,
   "latestWkid": 3015
  }
 },
 "initialExtent": {
  "xmin": 121852.65721753477,
  "ymin": 6390375.581205063,
  "xmax": 123541.78551553476,
  "ymax": 6392166.778041063,
  "spatialReference": {
   "wkid": 3015,
   "latestWkid": 3015
  }
 },
 "fullExtent": {
  "xmin": 121852.65721753477,
  "ymin": 6390375.581205063,
  "xmax": 123541.78551553476,
  "ymax": 6392166.778041063,
  "spatialReference": {
   "wkid": 3015,
   "latestWkid": 3015
  }
 },
 "sortableFields": "",
 "bandCount": 1,
 "pixelType": "U8",
 "minValues": [
  0
 ],
 "maxValues": [
  255
 ],
 "meanValues": [
  87.55525345989304
 ],
 "stdvValues": [
  97.27128537039083
 ],
 "hasMultidimensions": false,
 "pixelSizeX": 0.15143699999999963,
 "pixelSizeY": 0.15143700000002608,
 "meanPixelSize": 0.15143700000001287,
 "datasetFormat": "FGDBR",
 "uncompressedSize": 131929512,
 "blockWidth": 128,
 "blockHeight": 128,
 "compressionType": "LZ77",
 "bandNames": [
  "Band_1"
 ],
 "allowCopy": true,
 "allowAnalysis": true,
 "itemAccess": false,
 "inspectionCapabilities": "",
 "minPixelSize": 0,
 "maxPixelSize": 0,
 "copyrightText": "",
 "serviceDataType": "esriImageServiceDataTypeGeneric",
 "serviceSourceType": "esriImageServiceSourceTypeDataset",
 "objectIdField": "",
 "fields": [],
 "capabilities": "Image,Metadata,Mensuration",
 "defaultMosaicMethod": "Center",
 "allowedMosaicMethods": "",
 "sortField": "",
 "sortValue": null,
 "sortAscending": true,
 "mosaicOperator": "First",
 "defaultCompressionQuality": 75,
 "defaultResamplingMethod": "Bilinear",
 "maxImageHeight": 4100,
 "maxImageWidth": 15000,
 "allowRasterFunction": true,
 "rasterFunctionInfos": [
  {
   "name": "None",
   "description": "",
   "help": ""
  }
 ],
 "rasterTypeInfos": [
  {
   "name": "Raster Dataset",
   "description": "Supports all ArcGIS Raster Datasets",
   "help": ""
  }
 ],
 "mensurationCapabilities": "Basic",
 "hasHistograms": true,
 "hasColormap": false,
 "hasRasterAttributeTable": true,
 "minScale": 0,
 "maxScale": 0,
 "exportTilesAllowed": false,
 "supportsStatistics": false,
 "supportsAdvancedQueries": false,
 "editFieldsInfo": null,
 "ownershipBasedAccessControlForRasters": null,
 "allowComputeTiePoints": false,
 "useStandardizedQueries": true,
 "advancedQueryCapabilities": {
  "useStandardizedQueries": true,
  "supportsStatistics": false,
  "supportsOrderBy": false,
  "supportsDistinct": false,
  "supportsPagination": false
 },
 "spatialReference": {
  "wkid": 3015,
  "latestWkid": 3015
 }
}
