{
 "currentVersion": 11.3,
 "serviceDescription": "Inscannad och rektifierad bild över Visby(Serboni 1912).",
 "name": "Skannade_bilder/VISBY_1912_SERBONI",
 "description": "Inscannad och rektifierad bild över Visby(Serboni 1912).",
 "extent": {
  "xmin": 121216.70979476048,
  "ymin": 6388981.793482981,
  "xmax": 124541.81947476047,
  "ymax": 6392903.91588298,
  "spatialReference": {
   "wkid": 3015,
   "latestWkid": 3015
  }
 },
 "initialExtent": {
  "xmin": 121216.70979476048,
  "ymin": 6388981.793482981,
  "xmax": 124541.81947476047,
  "ymax": 6392903.91588298,
  "spatialReference": {
   "wkid": 3015,
   "latestWkid": 3015
  }
 },
 "fullExtent": {
  "xmin": 121216.70979476048,
  "ymin": 6388981.793482981,
  "xmax": 124541.81947476047,
  "ymax": 6392903.91588298,
  "spatialReference": {
   "wkid": 3015,
   "latestWkid": 3015
  }
 },
 "sortableFields": "",
 "bandCount": 3,
 "pixelType": "U8",
 "minValues": [],
 "maxValues": [],
 "meanValues": [],
 "stdvValues": [],
 "hasMultidimensions": false,
 "pixelSizeX": 0.3864159999999993,
 "pixelSizeY": 0.3864159999999764,
 "meanPixelSize": 0.3864159999999879,
 "datasetFormat": "FGDBR",
 "uncompressedSize": 262022250,
 "blockWidth": 128,
 "blockHeight": 128,
 "compressionType": "LZ77",
 "bandNames": [
  "Band_1"
 ],
 "allowCopy": true,
 "allowAnalysis": true,
 "itemAccess": false,
 "inspectionCapabilities": "",
 "noDataValue": 256,
 "noDataValues": [
  256,
  256,
  256
 ],
 "minPixelSize": 0,
 "maxPixelSize": 0,
 "copyrightText": "",
 "serviceDataType": "esriImageServiceDataTypeRGB",
 "serviceSourceType": "esriImageServiceSourceTypeDataset",
 "objectIdField": "",
 "fields": [],
 "capabilities": "Image,Metadata,Mensuration",
 "defaultMosaicMethod": "Center",
 "allowedMosaicMethods": "",
 "sortField": "",
 "sortValue": null,
 "sortAscending": true,
 "mosaicOperator": "First",
 "defaultCompressionQuality": 75,
 "defaultResamplingMethod": "Bilinear",
 "maxImageHeight": 4100,
 "maxImageWidth": 15000,
 "allowRasterFunction": true,
 "rasterFunctionInfos": [
  {
   "name": "None",
   "description": "",
   "help": ""
  }
 ],
 "rasterTypeInfos": [
  {
   "name": "Raster Dataset",
   "description": "Supports all ArcGIS Raster Datasets",
   "help": ""
  }
 ],
 "mensurationCapabilities": "Basic",
 "hasHistograms": false,
 "hasColormap": false,
 "hasRasterAttributeTable": false,
 "minScale": 0,
 "maxScale": 0,
 "exportTilesAllowed": false,
 "supportsStatistics": false,
 "supportsAdvancedQueries": false,
 "editFieldsInfo": null,
 "ownershipBasedAccessControlForRasters": null,
 "allowComputeTiePoints": false,
 "useStandardizedQueries": true,
 "advancedQueryCapabilities": {
  "useStandardizedQueries": true,
  "supportsStatistics": false,
  "supportsOrderBy": false,
  "supportsDistinct": false,
  "supportsPagination": false
 },
 "spatialReference": {
  "wkid": 3015,
  "latestWkid": 3015
 }
}
