View In:
ArcGIS JavaScript
ArcGIS Online Map Viewer
ArcGIS Earth
Service Description: Miljo/SLU_markfuktsindex
Name: Miljo/SLU_markfuktsindex
Description:
Single Fused Map Cache: false
Extent:
XMin: 33557.97289504181
YMin: 6252079.663211961
XMax: 240723.78349382058
YMax: 6524282.126425945
Spatial Reference: 3015
(3015)
Initial Extent:
XMin: 33557.97289504181
YMin: 6252079.663211961
XMax: 240723.78349382058
YMax: 6524282.126425945
Spatial Reference: 3015
(3015)
Full Extent:
XMin: 33557.97289504181
YMin: 6252079.663211961
XMax: 240723.78349382058
YMax: 6524282.126425945
Spatial Reference: 3015
(3015)
Pixel Size X: 13.693291731031712
Pixel Size Y: 11.485336000590038
Band Count: 1
Pixel Type: F32
RasterFunction Infos: {"rasterFunctionInfos": [{
"name": "None",
"description": "",
"help": ""
}]}
Mensuration Capabilities: Basic
Inspection Capabilities:
Has Histograms: true
Has Colormap: false
Has Multi Dimensions : false
Rendering Rule:
Min Scale: 0
Max Scale: 0
Copyright Text:
Service Data Type: esriImageServiceDataTypeGeneric
Min Values: 0.7999999523162842
Max Values: 240.00001525878906
Mean Values: 103.04169652745807
Standard Deviation Values: 56.590090670768376
Object ID Field:
Fields:
None
Default Mosaic Method: Center
Allowed Mosaic Methods:
SortField:
SortValue: null
Mosaic Operator: First
Default Compression Quality: 75
Default Resampling Method: Bilinear
Max Record Count: null
Max Image Height: 4100
Max Image Width: 15000
Max Download Image Count: null
Max Mosaic Image Count: null
Allow Raster Function: true
Allow Copy: true
Allow Analysis: true
Allow Compute TiePoints: false
Supports Statistics: false
Supports Advanced Queries: false
Use StandardizedQueries: true
Raster Type Infos:
Name: Raster Dataset
Description: Supports all ArcGIS Raster Datasets
Help:
Has Raster Attribute Table: false
Edit Fields Info: null
Ownership Based AccessControl For Rasters: null
Child Resources:
Info
Histograms
Statistics
Key Properties
Legend
Raster Function Infos
Supported Operations:
Export Image
Identify
Measure
Compute Histograms
Compute Statistics Histograms
Get Samples
Compute Class Statistics
Query Boundary
Compute Pixel Location
Compute Angles
Validate
Project