View In:
ArcGIS JavaScript
ArcGIS Online Map Viewer
ArcGIS Earth
Service Description: Ortofoto/utbyggnad_va_2020
Name: Ortofoto/utbyggnad_va_2020
Description:
Single Fused Map Cache: false
Extent:
XMin: 112183.68
YMin: 6369574.88
XMax: 115030.08
YMax: 6375432.8
Spatial Reference: 3015
(3015)
Initial Extent:
XMin: 112183.68
YMin: 6369574.88
XMax: 115030.08
YMax: 6375432.8
Spatial Reference: 3015
(3015)
Full Extent:
XMin: 112183.68
YMin: 6369574.88
XMax: 115030.08
YMax: 6375432.8
Spatial Reference: 3015
(3015)
Pixel Size X: 0.1600000000000005
Pixel Size Y: 0.15999999999999798
Band Count: 3
Pixel Type: U8
RasterFunction Infos: {"rasterFunctionInfos": [{
"name": "None",
"description": "",
"help": ""
}]}
Mensuration Capabilities: Basic
Inspection Capabilities:
Has Histograms: true
Has Colormap: false
Has Multi Dimensions : false
Rendering Rule:
Min Scale: 0
Max Scale: 0
Copyright Text:
Service Data Type: esriImageServiceDataTypeRGB
Min Values: 1, 1, 1
Max Values: 255, 255, 255
Mean Values: 105.64304292546998, 111.41333223601585, 106.76200598336109
Standard Deviation Values: 41.09460660792054, 34.33009816983677, 29.069661794347738
Object ID Field:
Fields:
None
Default Mosaic Method: Center
Allowed Mosaic Methods:
SortField:
SortValue: null
Mosaic Operator: First
Default Compression Quality: 75
Default Resampling Method: Bilinear
Max Record Count: null
Max Image Height: 4100
Max Image Width: 15000
Max Download Image Count: null
Max Mosaic Image Count: null
Allow Raster Function: true
Allow Copy: true
Allow Analysis: true
Allow Compute TiePoints: false
Supports Statistics: false
Supports Advanced Queries: false
Use StandardizedQueries: true
Raster Type Infos:
Name: Raster Dataset
Description: Supports all ArcGIS Raster Datasets
Help:
Has Raster Attribute Table: false
Edit Fields Info: null
Ownership Based AccessControl For Rasters: null
Child Resources:
Info
Histograms
Statistics
Key Properties
Legend
Raster Function Infos
Supported Operations:
Export Image
Identify
Measure
Compute Histograms
Compute Statistics Histograms
Get Samples
Compute Class Statistics
Query Boundary
Compute Pixel Location
Compute Angles
Validate
Project