View In:
ArcGIS JavaScript
ArcGIS Online Map Viewer
ArcGIS Earth
Service Description: Plan/Skyfall_utan_klimatfaktor_1845
Name: Plan/Skyfall_utan_klimatfaktor_1845
Description:
Single Fused Map Cache: true
Tile Info:
- Height: 256
- Width: 256
- DPI: 96
-
Levels of Detail: 19
-
Level ID: 0
[ Start Tile, End Tile ]
- Resolution: 78140.34944709402
- Scale: 2.9533360420948917E8
-
Level ID: 1
[ Start Tile, End Tile ]
- Resolution: 39070.17472354701
- Scale: 1.4766680210474458E8
-
Level ID: 2
[ Start Tile, End Tile ]
- Resolution: 19535.087361773505
- Scale: 7.383340105237229E7
-
Level ID: 3
[ Start Tile, End Tile ]
- Resolution: 9767.543680886753
- Scale: 3.6916700526186146E7
-
Level ID: 4
[ Start Tile, End Tile ]
- Resolution: 4883.771840443376
- Scale: 1.8458350263093073E7
-
Level ID: 5
[ Start Tile, End Tile ]
- Resolution: 2441.885920221688
- Scale: 9229175.131546536
-
Level ID: 6
[ Start Tile, End Tile ]
- Resolution: 1220.942960110844
- Scale: 4614587.565773268
-
Level ID: 7
[ Start Tile, End Tile ]
- Resolution: 610.471480055422
- Scale: 2307293.782886634
-
Level ID: 8
[ Start Tile, End Tile ]
- Resolution: 305.235740027711
- Scale: 1153646.891443317
-
Level ID: 9
[ Start Tile, End Tile ]
- Resolution: 152.6178700138555
- Scale: 576823.4457216585
-
Level ID: 10
[ Start Tile, End Tile ]
- Resolution: 76.30893500692775
- Scale: 288411.72286082926
-
Level ID: 11
[ Start Tile, End Tile ]
- Resolution: 38.15446750346388
- Scale: 144205.86143041463
-
Level ID: 12
[ Start Tile, End Tile ]
- Resolution: 19.07723375173194
- Scale: 72102.93071520732
-
Level ID: 13
[ Start Tile, End Tile ]
- Resolution: 9.53861687586597
- Scale: 36051.46535760366
-
Level ID: 14
[ Start Tile, End Tile ]
- Resolution: 4.769308437932985
- Scale: 18025.73267880183
-
Level ID: 15
[ Start Tile, End Tile ]
- Resolution: 2.3846542189664923
- Scale: 9012.866339400915
-
Level ID: 16
[ Start Tile, End Tile ]
- Resolution: 1.1923271094832462
- Scale: 4506.433169700457
-
Level ID: 17
[ Start Tile, End Tile ]
- Resolution: 0.5961635547416231
- Scale: 2253.2165848502286
-
Level ID: 18
[ Start Tile, End Tile ]
- Resolution: 0.29808177737081154
- Scale: 1126.6082924251143
- Format: PNG32
- Compression Quality: 0.0
- LERC Error: NaN
- Origin: X: -9851964.729228035
Y: 1.0001964729228035E7
- Spatial Reference: 3015
(3015)
Storage Info:
- Storage Format: esriMapCacheStorageModeCompactV2
- Packet Size: 128
Extent:
XMin: 96727.23008351194
YMin: 6303548.469379837
XMax: 188492.23008351194
YMax: 6438049.469379837
Spatial Reference: 3015
(3015)
Initial Extent:
XMin: 96727.23008351194
YMin: 6303548.469379837
XMax: 188492.23008351194
YMax: 6438049.469379837
Spatial Reference: 3015
(3015)
Full Extent:
XMin: 96727.23008351194
YMin: 6303548.469379837
XMax: 188492.23008351194
YMax: 6438049.469379837
Spatial Reference: 3015
(3015)
Pixel Size X: 1.0
Pixel Size Y: 1.0
Band Count: 1
Pixel Type: F32
RasterFunction Infos: {"rasterFunctionInfos": [{
"name": "None",
"description": "",
"help": ""
}]}
Mensuration Capabilities: Basic
Inspection Capabilities:
Has Histograms: true
Has Colormap: false
Has Multi Dimensions : false
Rendering Rule:
Min Scale: 576823.4457216585
Max Scale: 1126.6082924251143
Min LOD: 9
Max LOD: 18
Copyright Text:
Service Data Type: esriImageServiceDataTypeGeneric
Min Values: 0
Max Values: 14.9599609375
Mean Values: 0.12047876428560322
Standard Deviation Values: 0.1813885942439707
Object ID Field:
Fields:
None
Default Mosaic Method: Center
Allowed Mosaic Methods:
SortField:
SortValue: null
Mosaic Operator: First
Default Compression Quality: 75
Default Resampling Method: Bilinear
Max Record Count: null
Max Image Height: 4100
Max Image Width: 15000
Max Download Image Count: null
Max Mosaic Image Count: null
Allow Raster Function: true
Allow Copy: true
Allow Analysis: true
Allow Compute TiePoints: false
Supports Statistics: false
Supports Advanced Queries: false
Use StandardizedQueries: true
Raster Type Infos:
Name: Raster Dataset
Description: Supports all ArcGIS Raster Datasets
Help:
Has Raster Attribute Table: false
Edit Fields Info: null
Ownership Based AccessControl For Rasters: null
Child Resources:
Info
Histograms
Statistics
Key Properties
Legend
Raster Function Infos
Supported Operations:
Export Image
Identify
Measure
Compute Histograms
Compute Statistics Histograms
Get Samples
Compute Class Statistics
Query Boundary
Compute Pixel Location
Compute Angles
Validate
Project