View In:
ArcGIS JavaScript
ArcGIS Online Map Viewer
ArcGIS Earth
Service Description: VA_projekt/del2_orto_Va_utbyggnad
Name: VA_projekt/del2_orto_Va_utbyggnad
Description:
Single Fused Map Cache: false
Extent:
XMin: 112183.68
YMin: 6371432.64
XMax: 115030.07999999996
YMax: 6373432.8
Spatial Reference: 3015
(3015)
Initial Extent:
XMin: 112183.68
YMin: 6371432.64
XMax: 115030.07999999996
YMax: 6373432.8
Spatial Reference: 3015
(3015)
Full Extent:
XMin: 112183.68
YMin: 6371432.64
XMax: 115030.07999999996
YMax: 6373432.8
Spatial Reference: 3015
(3015)
Pixel Size X: 0.15999999999999803
Pixel Size Y: 0.1600000000000119
Band Count: 3
Pixel Type: U8
RasterFunction Infos: {"rasterFunctionInfos": [{
"name": "None",
"description": "",
"help": ""
}]}
Mensuration Capabilities: Basic
Inspection Capabilities:
Has Histograms: true
Has Colormap: false
Has Multi Dimensions : false
Rendering Rule:
Min Scale: 0
Max Scale: 0
Copyright Text:
Service Data Type: esriImageServiceDataTypeRGB
Min Values: 1, 1, 1
Max Values: 255, 255, 255
Mean Values: 99.9284048164596, 106.0860627219068, 101.893432912474
Standard Deviation Values: 41.26985337962409, 34.73719500804239, 29.880609311663388
Object ID Field:
Fields:
None
Default Mosaic Method: Center
Allowed Mosaic Methods:
SortField:
SortValue: null
Mosaic Operator: First
Default Compression Quality: 75
Default Resampling Method: Bilinear
Max Record Count: null
Max Image Height: 4100
Max Image Width: 15000
Max Download Image Count: null
Max Mosaic Image Count: null
Allow Raster Function: true
Allow Copy: true
Allow Analysis: true
Allow Compute TiePoints: false
Supports Statistics: false
Supports Advanced Queries: false
Use StandardizedQueries: true
Raster Type Infos:
Name: Raster Dataset
Description: Supports all ArcGIS Raster Datasets
Help:
Has Raster Attribute Table: false
Edit Fields Info: null
Ownership Based AccessControl For Rasters: null
Child Resources:
Info
Histograms
Statistics
Key Properties
Legend
Raster Function Infos
Supported Operations:
Export Image
Identify
Measure
Compute Histograms
Compute Statistics Histograms
Get Samples
Compute Class Statistics
Query Boundary
Compute Pixel Location
Compute Angles
Validate
Project