View In:
ArcGIS JavaScript
ArcGIS Online Map Viewer
ArcGIS Earth
Service Description: Miljo/SLUmarkfuktighet_tif
Name: Miljo/SLUmarkfuktighet_tif
Description:
Single Fused Map Cache: false
Extent:
XMin: 102123.49459999986
YMin: 6309463.996099999
XMax: 185555.24579999968
YMax: 6475773.431600001
Spatial Reference: 3015
(3015)
Initial Extent:
XMin: 102123.49459999986
YMin: 6309463.996099999
XMax: 185555.24579999968
YMax: 6475773.431600001
Spatial Reference: 3015
(3015)
Full Extent:
XMin: 102123.49459999986
YMin: 6309463.996099999
XMax: 185555.24579999968
YMax: 6475773.431600001
Spatial Reference: 3015
(3015)
Pixel Size X: 1.9999940358615358
Pixel Size Y: 1.9999932114725698
Band Count: 1
Pixel Type: F32
RasterFunction Infos: {"rasterFunctionInfos": [{
"name": "None",
"description": "",
"help": ""
}]}
Mensuration Capabilities: Basic
Inspection Capabilities:
Has Histograms: true
Has Colormap: false
Has Multi Dimensions : false
Rendering Rule:
Min Scale: 0
Max Scale: 0
Copyright Text:
Service Data Type: esriImageServiceDataTypeGeneric
Min Values: 0
Max Values: 255
Mean Values: 35.412757951962
Standard Deviation Values: 61.760510396831
Object ID Field:
Fields:
None
Default Mosaic Method: Center
Allowed Mosaic Methods:
SortField:
SortValue: null
Mosaic Operator: First
Default Compression Quality: 75
Default Resampling Method: Bilinear
Max Record Count: null
Max Image Height: 4100
Max Image Width: 15000
Max Download Image Count: null
Max Mosaic Image Count: null
Allow Raster Function: true
Allow Copy: true
Allow Analysis: true
Allow Compute TiePoints: false
Supports Statistics: false
Supports Advanced Queries: false
Use StandardizedQueries: true
Raster Type Infos:
Name: Raster Dataset
Description: Supports all ArcGIS Raster Datasets
Help:
Has Raster Attribute Table: false
Edit Fields Info: null
Ownership Based AccessControl For Rasters: null
Child Resources:
Info
Histograms
Statistics
Key Properties
Legend
Raster Function Infos
Supported Operations:
Export Image
Identify
Measure
Compute Histograms
Compute Statistics Histograms
Get Samples
Compute Class Statistics
Query Boundary
Compute Pixel Location
Compute Angles
Validate
Project