View In:
ArcGIS JavaScript
ArcGIS Online Map Viewer
ArcGIS Earth
Service Description: Hillshade raster genererad från höjdata(RH2000)
Name: Ortofoto/HILLSHADE
Description: Hillshade raster genererad från höjdata(RH2000)
Single Fused Map Cache: false
Extent:
XMin: 101291.01030159026
YMin: 6309349.9037442515
XMax: 185771.01030159026
YMax: 6475749.9037442515
Spatial Reference: 3015
(3015)
VCSWkid(105702)
LatestVCSWkid(5613)
Initial Extent:
XMin: 101291.01030159026
YMin: 6309349.9037442515
XMax: 185771.01030159026
YMax: 6475749.9037442515
Spatial Reference: 3015
(3015)
VCSWkid(105702)
LatestVCSWkid(5613)
Full Extent:
XMin: 101291.01030159026
YMin: 6309349.9037442515
XMax: 185771.01030159026
YMax: 6475749.9037442515
Spatial Reference: 3015
(3015)
VCSWkid(105702)
LatestVCSWkid(5613)
Pixel Size X: 1.25
Pixel Size Y: 1.25
Band Count: 1
Pixel Type: U8
RasterFunction Infos: {"rasterFunctionInfos": [{
"name": "None",
"description": "",
"help": ""
}]}
Mensuration Capabilities: Basic
Inspection Capabilities:
Has Histograms: true
Has Colormap: false
Has Multi Dimensions : false
Rendering Rule:
Min Scale: 0
Max Scale: 0
Copyright Text:
Service Data Type: esriImageServiceDataTypeGeneric
Min Values: 0
Max Values: 254
Mean Values: 179.46229367832
Standard Deviation Values: 7.937120504892759
Object ID Field:
Fields:
None
Default Mosaic Method: Center
Allowed Mosaic Methods:
SortField:
SortValue: null
Mosaic Operator: First
Default Compression Quality: 75
Default Resampling Method: Bilinear
Max Record Count: null
Max Image Height: 4100
Max Image Width: 15000
Max Download Image Count: null
Max Mosaic Image Count: null
Allow Raster Function: true
Allow Copy: true
Allow Analysis: true
Allow Compute TiePoints: false
Supports Statistics: false
Supports Advanced Queries: false
Use StandardizedQueries: true
Raster Type Infos:
Name: Raster Dataset
Description: Supports all ArcGIS Raster Datasets
Help:
Has Raster Attribute Table: true
Edit Fields Info: null
Ownership Based AccessControl For Rasters: null
Child Resources:
Info
Raster Attribute Table
Histograms
Statistics
Key Properties
Legend
Raster Function Infos
Supported Operations:
Export Image
Identify
Measure
Compute Histograms
Compute Statistics Histograms
Get Samples
Compute Class Statistics
Query Boundary
Compute Pixel Location
Compute Angles
Validate
Project