View In:
ArcGIS JavaScript
ArcGIS Online Map Viewer
ArcGIS Earth
Service Description: Rastret är framtaget från las-data från Lantmäteriet. Den har cellstorlek 1,25m och Triangulering Linjär med ingen förtunning.
Name: Ortofoto/HOJDRASTER
Description: Rastret är framtaget från las-data från Lantmäteriet. Den har cellstorlek 1,25m och Triangulering Linjär med ingen förtunning.
Single Fused Map Cache: false
Extent:
XMin: 101291.01030159026
YMin: 6309349.9037442515
XMax: 185771.01030159026
YMax: 6475749.9037442515
Spatial Reference: 3015
(3015)
VCSWkid(105702)
LatestVCSWkid(5613)
Initial Extent:
XMin: 101291.01030159026
YMin: 6309349.9037442515
XMax: 185771.01030159026
YMax: 6475749.9037442515
Spatial Reference: 3015
(3015)
VCSWkid(105702)
LatestVCSWkid(5613)
Full Extent:
XMin: 101291.01030159026
YMin: 6309349.9037442515
XMax: 185771.01030159026
YMax: 6475749.9037442515
Spatial Reference: 3015
(3015)
VCSWkid(105702)
LatestVCSWkid(5613)
Pixel Size X: 1.25
Pixel Size Y: 1.25
Band Count: 1
Pixel Type: F32
RasterFunction Infos: {"rasterFunctionInfos": [{
"name": "None",
"description": "",
"help": ""
}]}
Mensuration Capabilities: Basic
Inspection Capabilities:
Has Histograms: true
Has Colormap: false
Has Multi Dimensions : false
Rendering Rule:
Min Scale: 0
Max Scale: 0
Copyright Text: Tomas Looström
Service Data Type: esriImageServiceDataTypeGeneric
Min Values: -48.70973205566406
Max Values: 84.08650207519531
Mean Values: 23.75969332740431
Standard Deviation Values: 17.94645379608534
Object ID Field:
Fields:
None
Default Mosaic Method: Center
Allowed Mosaic Methods:
SortField:
SortValue: null
Mosaic Operator: First
Default Compression Quality: 75
Default Resampling Method: Bilinear
Max Record Count: null
Max Image Height: 4100
Max Image Width: 15000
Max Download Image Count: null
Max Mosaic Image Count: null
Allow Raster Function: true
Allow Copy: true
Allow Analysis: true
Allow Compute TiePoints: false
Supports Statistics: false
Supports Advanced Queries: false
Use StandardizedQueries: true
Raster Type Infos:
Name: Raster Dataset
Description: Supports all ArcGIS Raster Datasets
Help:
Has Raster Attribute Table: false
Edit Fields Info: null
Ownership Based AccessControl For Rasters: null
Child Resources:
Info
Histograms
Statistics
Key Properties
Legend
Raster Function Infos
Supported Operations:
Export Image
Identify
Measure
Compute Histograms
Compute Statistics Histograms
Get Samples
Compute Class Statistics
Query Boundary
Compute Pixel Location
Compute Angles
Validate
Project