View In:
ArcGIS JavaScript
ArcGIS Online Map Viewer
ArcGIS Earth
Service Description: Ortofoto 2020, Klippt för Almedalsveckans karta.
Name: Ortofoto/ORTOFOTO_2020_Almedalen
Description: Ortofoto 2020, Klippt för Almedalsveckans karta.
Single Fused Map Cache: false
Extent:
XMin: 121317.76000000001
YMin: 6389544.8
XMax: 124119.84000000001
YMax: 6393140.64
Spatial Reference: 3015
(3015)
Initial Extent:
XMin: 121317.76000000001
YMin: 6389544.8
XMax: 124119.84000000001
YMax: 6393140.64
Spatial Reference: 3015
(3015)
Full Extent:
XMin: 121317.76000000001
YMin: 6389544.8
XMax: 124119.84000000001
YMax: 6393140.64
Spatial Reference: 3015
(3015)
Pixel Size X: 0.1600000000000001
Pixel Size Y: 0.15999999999999337
Band Count: 3
Pixel Type: U8
RasterFunction Infos: {"rasterFunctionInfos": [{
"name": "None",
"description": "",
"help": ""
}]}
Mensuration Capabilities: Basic
Inspection Capabilities:
Has Histograms: true
Has Colormap: false
Has Multi Dimensions : false
Rendering Rule:
Min Scale: 0
Max Scale: 0
Copyright Text:
Service Data Type: esriImageServiceDataTypeRGB
Min Values: 9, 18, 12
Max Values: 255, 255, 255
Mean Values: 116.0082293541413, 123.48692367174114, 118.37100270625301
Standard Deviation Values: 57.1199063763794, 48.585515586190766, 42.75688987596643
Object ID Field:
Fields:
None
Default Mosaic Method: Center
Allowed Mosaic Methods:
SortField:
SortValue: null
Mosaic Operator: First
Default Compression Quality: 75
Default Resampling Method: Bilinear
Max Record Count: null
Max Image Height: 4100
Max Image Width: 15000
Max Download Image Count: null
Max Mosaic Image Count: null
Allow Raster Function: true
Allow Copy: true
Allow Analysis: true
Allow Compute TiePoints: false
Supports Statistics: false
Supports Advanced Queries: false
Use StandardizedQueries: true
Raster Type Infos:
Name: Raster Dataset
Description: Supports all ArcGIS Raster Datasets
Help:
Has Raster Attribute Table: false
Edit Fields Info: null
Ownership Based AccessControl For Rasters: null
Child Resources:
Info
Histograms
Statistics
Key Properties
Legend
Raster Function Infos
Supported Operations:
Export Image
Identify
Measure
Compute Histograms
Compute Statistics Histograms
Get Samples
Compute Class Statistics
Query Boundary
Compute Pixel Location
Compute Angles
Validate
Project