View In:
ArcGIS JavaScript
ArcGIS Online Map Viewer
ArcGIS Earth
Service Description: Orotofoto år 2010
Name: Ortofoto/Ortofoto2010
Description: Orotofoto år 2010
Single Fused Map Cache: false
Extent:
XMin: 99900.02708702162
YMin: 6306700.022123301
XMax: 189900.02708702162
YMax: 6476700.022123301
Spatial Reference: 3015
(3015)
Initial Extent:
XMin: 99900.02708702162
YMin: 6306700.022123301
XMax: 189900.02708702162
YMax: 6476700.022123301
Spatial Reference: 3015
(3015)
Full Extent:
XMin: 99900.02708702162
YMin: 6306700.022123301
XMax: 189900.02708702162
YMax: 6476700.022123301
Spatial Reference: 3015
(3015)
Pixel Size X: 0.5
Pixel Size Y: 0.5
Band Count: 3
Pixel Type: U8
RasterFunction Infos: {"rasterFunctionInfos": [{
"name": "None",
"description": "",
"help": ""
}]}
Mensuration Capabilities: Basic
Inspection Capabilities:
Has Histograms: true
Has Colormap: false
Has Multi Dimensions : false
Rendering Rule:
Min Scale: 0
Max Scale: 0
Copyright Text:
Service Data Type: esriImageServiceDataTypeRGB
Min Values: 0, 0, 0
Max Values: 255, 255, 255
Mean Values: 76.78294147960976, 85.20593690780488, 83.84678796356097
Standard Deviation Values: 47.6498153953276, 47.74390091288258, 44.6415349516479
Object ID Field:
Fields:
None
Default Mosaic Method: Center
Allowed Mosaic Methods:
SortField:
SortValue: null
Mosaic Operator: First
Default Compression Quality: 75
Default Resampling Method: Bilinear
Max Record Count: null
Max Image Height: 4100
Max Image Width: 15000
Max Download Image Count: null
Max Mosaic Image Count: null
Allow Raster Function: true
Allow Copy: true
Allow Analysis: true
Allow Compute TiePoints: false
Supports Statistics: false
Supports Advanced Queries: false
Use StandardizedQueries: true
Raster Type Infos:
Name: Raster Dataset
Description: Supports all ArcGIS Raster Datasets
Help:
Has Raster Attribute Table: false
Edit Fields Info: null
Ownership Based AccessControl For Rasters: null
Child Resources:
Info
Histograms
Statistics
Key Properties
Legend
Raster Function Infos
Supported Operations:
Export Image
Identify
Measure
Compute Histograms
Compute Statistics Histograms
Get Samples
Compute Class Statistics
Query Boundary
Compute Pixel Location
Compute Angles
Validate
Project