View In:
ArcGIS JavaScript
ArcGIS Online Map Viewer
ArcGIS Earth
Service Description: Inscannad och rektifierad akvarell över Gotland.
Name: Skannade_bilder/GOTLAND_AKVARELL
Description: Inscannad och rektifierad akvarell över Gotland.
Single Fused Map Cache: false
Extent:
XMin: 60950.55995877707
YMin: 6286365.9994898625
XMax: 228711.1918420532
YMax: 6499128.608458155
Spatial Reference: 3015
(3015)
Initial Extent:
XMin: 60950.55995877707
YMin: 6286365.9994898625
XMax: 228711.1918420532
YMax: 6499128.608458155
Spatial Reference: 3015
(3015)
Full Extent:
XMin: 60950.55995877707
YMin: 6286365.9994898625
XMax: 228711.1918420532
YMax: 6499128.608458155
Spatial Reference: 3015
(3015)
Pixel Size X: 41.50436216805446
Pixel Size Y: 40.68896710045752
Band Count: 3
Pixel Type: U8
RasterFunction Infos: {"rasterFunctionInfos": [{
"name": "None",
"description": "",
"help": ""
}]}
Mensuration Capabilities: Basic
Inspection Capabilities:
Has Histograms: true
Has Colormap: false
Has Multi Dimensions : false
Rendering Rule:
Min Scale: 0
Max Scale: 0
Copyright Text: Lena Nilsson, GIS-teamet.
Service Data Type: esriImageServiceDataTypeRGB
Min Values: 71, 80, 48
Max Values: 255, 255, 255
Mean Values: 244.78518393140854, 243.96827590463772, 230.82061643938698
Standard Deviation Values: 11.713016847018032, 10.080913448950948, 29.126290764068504
Object ID Field:
Fields:
None
Default Mosaic Method: Center
Allowed Mosaic Methods:
SortField:
SortValue: null
Mosaic Operator: First
Default Compression Quality: 75
Default Resampling Method: Bilinear
Max Record Count: null
Max Image Height: 4100
Max Image Width: 15000
Max Download Image Count: null
Max Mosaic Image Count: null
Allow Raster Function: true
Allow Copy: true
Allow Analysis: true
Allow Compute TiePoints: false
Supports Statistics: false
Supports Advanced Queries: false
Use StandardizedQueries: true
Raster Type Infos:
Name: Raster Dataset
Description: Supports all ArcGIS Raster Datasets
Help:
Has Raster Attribute Table: false
Edit Fields Info: null
Ownership Based AccessControl For Rasters: null
Child Resources:
Info
Histograms
Statistics
Key Properties
Legend
Raster Function Infos
Supported Operations:
Export Image
Identify
Measure
Compute Histograms
Compute Statistics Histograms
Get Samples
Compute Class Statistics
Query Boundary
Compute Pixel Location
Compute Angles
Validate
Project