View In:
ArcGIS JavaScript
ArcGIS Online Map Viewer
ArcGIS Earth
Service Description: Inscannad och rektifierad över Visby( Schilder 1697).
Name: Skannade_bilder/VISBY_1697_SCHILDER
Description: Inscannad och rektifierad över Visby( Schilder 1697).
Single Fused Map Cache: false
Extent:
XMin: 121975.21983388069
YMin: 6390418.766922327
XMax: 123507.96207588069
YMax: 6392253.032228326
Spatial Reference: 3015
(3015)
Initial Extent:
XMin: 121975.21983388069
YMin: 6390418.766922327
XMax: 123507.96207588069
YMax: 6392253.032228326
Spatial Reference: 3015
(3015)
Full Extent:
XMin: 121975.21983388069
YMin: 6390418.766922327
XMax: 123507.96207588069
YMax: 6392253.032228326
Spatial Reference: 3015
(3015)
Pixel Size X: 0.3027339999999986
Pixel Size Y: 0.30273399999994494
Band Count: 3
Pixel Type: U8
RasterFunction Infos: {"rasterFunctionInfos": [{
"name": "None",
"description": "",
"help": ""
}]}
Mensuration Capabilities: Basic
Inspection Capabilities:
Has Histograms: true
Has Colormap: false
Has Multi Dimensions : false
Rendering Rule:
Min Scale: 0
Max Scale: 0
Copyright Text:
Service Data Type: esriImageServiceDataTypeRGB
Min Values: 0, 0, 0
Max Values: 255, 255, 243
Mean Values: 98.8713092734141, 92.89102810447415, 77.58481688245844
Standard Deviation Values: 107.10347089029077, 101.09917234780116, 85.42209639762656
Object ID Field:
Fields:
None
Default Mosaic Method: Center
Allowed Mosaic Methods:
SortField:
SortValue: null
Mosaic Operator: First
Default Compression Quality: 75
Default Resampling Method: Bilinear
Max Record Count: null
Max Image Height: 4100
Max Image Width: 15000
Max Download Image Count: null
Max Mosaic Image Count: null
Allow Raster Function: true
Allow Copy: true
Allow Analysis: true
Allow Compute TiePoints: false
Supports Statistics: false
Supports Advanced Queries: false
Use StandardizedQueries: true
Raster Type Infos:
Name: Raster Dataset
Description: Supports all ArcGIS Raster Datasets
Help:
Has Raster Attribute Table: false
Edit Fields Info: null
Ownership Based AccessControl For Rasters: null
Child Resources:
Info
Histograms
Statistics
Key Properties
Legend
Raster Function Infos
Supported Operations:
Export Image
Identify
Measure
Compute Histograms
Compute Statistics Histograms
Get Samples
Compute Class Statistics
Query Boundary
Compute Pixel Location
Compute Angles
Validate
Project