View In:
ArcGIS JavaScript
ArcGIS Online Map Viewer
ArcGIS Earth
Service Description: Inscannad och rektifierad bild över Visby(Böring 1906).
Name: Skannade_bilder/VISBY_1906_BÖRRING
Description: Inscannad och rektifierad bild över Visby(Böring 1906).
Single Fused Map Cache: false
Extent:
XMin: 121852.65721753477
YMin: 6390375.581205063
XMax: 123541.78551553476
YMax: 6392166.778041063
Spatial Reference: 3015
(3015)
Initial Extent:
XMin: 121852.65721753477
YMin: 6390375.581205063
XMax: 123541.78551553476
YMax: 6392166.778041063
Spatial Reference: 3015
(3015)
Full Extent:
XMin: 121852.65721753477
YMin: 6390375.581205063
XMax: 123541.78551553476
YMax: 6392166.778041063
Spatial Reference: 3015
(3015)
Pixel Size X: 0.15143699999999963
Pixel Size Y: 0.15143700000002608
Band Count: 1
Pixel Type: U8
RasterFunction Infos: {"rasterFunctionInfos": [{
"name": "None",
"description": "",
"help": ""
}]}
Mensuration Capabilities: Basic
Inspection Capabilities:
Has Histograms: true
Has Colormap: false
Has Multi Dimensions : false
Rendering Rule:
Min Scale: 0
Max Scale: 0
Copyright Text:
Service Data Type: esriImageServiceDataTypeGeneric
Min Values: 0
Max Values: 255
Mean Values: 87.55525345989304
Standard Deviation Values: 97.27128537039083
Object ID Field:
Fields:
None
Default Mosaic Method: Center
Allowed Mosaic Methods:
SortField:
SortValue: null
Mosaic Operator: First
Default Compression Quality: 75
Default Resampling Method: Bilinear
Max Record Count: null
Max Image Height: 4100
Max Image Width: 15000
Max Download Image Count: null
Max Mosaic Image Count: null
Allow Raster Function: true
Allow Copy: true
Allow Analysis: true
Allow Compute TiePoints: false
Supports Statistics: false
Supports Advanced Queries: false
Use StandardizedQueries: true
Raster Type Infos:
Name: Raster Dataset
Description: Supports all ArcGIS Raster Datasets
Help:
Has Raster Attribute Table: true
Edit Fields Info: null
Ownership Based AccessControl For Rasters: null
Child Resources:
Info
Raster Attribute Table
Histograms
Statistics
Key Properties
Legend
Raster Function Infos
Supported Operations:
Export Image
Identify
Measure
Compute Histograms
Compute Statistics Histograms
Get Samples
Compute Class Statistics
Query Boundary
Compute Pixel Location
Compute Angles
Validate
Project